BEGIN:VCALENDAR
VERSION:2.0
PRODID:-//wp-events-plugin.com//6.6.4.4//EN
TZID:Europe/Berlin
X-WR-TIMEZONE:Europe/Berlin
BEGIN:VEVENT
UID:211@dev.marketingclub-muenchen.de
DTSTART;TZID=Europe/Berlin:20110119T193000
DTEND;TZID=Europe/Berlin:20110119T210000
DTSTAMP:20160221T153515Z
URL:https://dev.marketingclub-muenchen.de/veranstaltungen/erfolgreich-auf-
 facebook-durch-apps-games/
SUMMARY:Erfolgreich auf Facebook durch Apps & Games - Marketing Club Münch
 en
DESCRIPTION:Die vergangene Dekade sei die Dekade der Websuche gewesen\, "di
 ese Dekade gehört den Social Medias" äußerte Joanna Shields\, Facebook 
 Vice President 2010 auf einer Konferenz\, als Sie zum Trend der nächsten 
 Jahre befragt wurde.
ATTACH;FMTTYPE=image/jpeg:https://dev.marketingclub-muenchen.de/wp-content
 /uploads/2016/02/Martin_Szugat.jpg
CATEGORIES:Marketing Pioniere,Vortrag
LOCATION:MCM Geschäftsstelle\, Edelsbergstr. 8\, 80686  München
GEO:48.124993;11.520350199999939
X-APPLE-STRUCTURED-LOCATION;VALUE=URI;X-ADDRESS=Edelsbergstr. 8\, München\
 , 80686 \, Deutschland;X-APPLE-RADIUS=100;X-TITLE=MCM Geschäftsstelle:geo
 :48.124993,11.520350199999939
END:VEVENT
BEGIN:VTIMEZONE
TZID:Europe/Berlin
X-LIC-LOCATION:Europe/Berlin
BEGIN:STANDARD
DTSTART:20101031T020000
TZOFFSETFROM:+0200
TZOFFSETTO:+0100
TZNAME:CET
END:STANDARD
END:VTIMEZONE
END:VCALENDAR