BEGIN:VCALENDAR
VERSION:2.0
PRODID:-//wp-events-plugin.com//6.6.4.4//EN
TZID:Europe/Berlin
X-WR-TIMEZONE:Europe/Berlin
BEGIN:VEVENT
UID:263@dev.marketingclub-muenchen.de
DTSTART;TZID=Europe/Berlin:20120131T193000
DTEND;TZID=Europe/Berlin:20120131T210000
DTSTAMP:20160309T204709Z
URL:https://dev.marketingclub-muenchen.de/veranstaltungen/konsumentenverha
 lten-analysieren-zielgruppen-verstehen-markt-media-studien-als-unterstuetz
 ung-der-marketingplanung/
SUMMARY:Konsumentenverhalten analysieren\, Zielgruppen verstehen – Markt-
 Media-Studien als Unterstützung der Marketingplanung. - Marketing Club M
 ünchen
DESCRIPTION:Wie hoch ist die Wechselbereitschaft von Krankenversicherten? W
 elchen Stellenwert hat die Umwelt im Vergleich zu Gesundheit\, finanzielle
 r Sicherheit oder Bildung? Welche und wie viele Versicherungen gibt es im 
 Durchschnitts-Haushalt?
ATTACH;FMTTYPE=image/jpeg:https://dev.marketingclub-muenchen.de/wp-content
 /uploads/2016/03/mueller_mediaforschung.jpg
CATEGORIES:Exklusivkreis,Rückblick
LOCATION:MCM Geschäftsstelle\, Edelsbergstr. 8\, 80686  München
GEO:48.124993;11.520350199999939
X-APPLE-STRUCTURED-LOCATION;VALUE=URI;X-ADDRESS=Edelsbergstr. 8\, München\
 , 80686 \, Deutschland;X-APPLE-RADIUS=100;X-TITLE=MCM Geschäftsstelle:geo
 :48.124993,11.520350199999939
END:VEVENT
BEGIN:VTIMEZONE
TZID:Europe/Berlin
X-LIC-LOCATION:Europe/Berlin
BEGIN:STANDARD
DTSTART:20111030T020000
TZOFFSETFROM:+0200
TZOFFSETTO:+0100
TZNAME:CET
END:STANDARD
END:VTIMEZONE
END:VCALENDAR