BEGIN:VCALENDAR
VERSION:2.0
PRODID:-//wp-events-plugin.com//6.6.4.4//EN
TZID:Europe/Berlin
X-WR-TIMEZONE:Europe/Berlin
BEGIN:VEVENT
UID:173@dev.marketingclub-muenchen.de
DTSTART;TZID=Europe/Berlin:20140116T193000
DTEND;TZID=Europe/Berlin:20140116T210000
DTSTAMP:20160209T165244Z
URL:https://dev.marketingclub-muenchen.de/veranstaltungen/starke-marken-we
 rte-wachstum-kapitalisierung/
SUMMARY:Starke Marken: Werte – Wachstum – Kapitalisierung - Marketing C
 lub München
DESCRIPTION:Continental\, Linde\, Tempo\, Nescafé\, … die Liste bekannte
 r und starker Marken lässt sich unendlich fortsetzen. Doch was haben die 
 genannten Unternehmen gemeinsam? Sie alle verkaufen sogenannte ‚Commodit
 ies‘\, also per se austauschbare Produkte\, zu einem vergleichsweise hoh
 en Preis\, mit großem Erfolg\, so Alexander Biesalski im Exklusivkreis Ma
 rke & Kommunikation
ATTACH;FMTTYPE=image/jpeg:https://dev.marketingclub-muenchen.de/wp-content
 /uploads/Starke_Marken.jpg
CATEGORIES:Exklusivkreis
LOCATION:MCM Geschäftsstelle\, Edelsbergstr. 8\, 80686  München
GEO:48.124993;11.520350199999939
X-APPLE-STRUCTURED-LOCATION;VALUE=URI;X-ADDRESS=Edelsbergstr. 8\, München\
 , 80686 \, Deutschland;X-APPLE-RADIUS=100;X-TITLE=MCM Geschäftsstelle:geo
 :48.124993,11.520350199999939
END:VEVENT
BEGIN:VTIMEZONE
TZID:Europe/Berlin
X-LIC-LOCATION:Europe/Berlin
BEGIN:STANDARD
DTSTART:20131027T020000
TZOFFSETFROM:+0200
TZOFFSETTO:+0100
TZNAME:CET
END:STANDARD
END:VTIMEZONE
END:VCALENDAR