BEGIN:VCALENDAR
VERSION:2.0
PRODID:-//wp-events-plugin.com//6.6.4.4//EN
TZID:Europe/Berlin
X-WR-TIMEZONE:Europe/Berlin
BEGIN:VEVENT
UID:329@dev.marketingclub-muenchen.de
DTSTART;TZID=Europe/Berlin:20170516T093000
DTEND;TZID=Europe/Berlin:20170516T180000
DTSTAMP:20170503T083416Z
URL:https://dev.marketingclub-muenchen.de/veranstaltungen/wv-advertising-h
 eroes-next-challenge-native-advertising/
SUMMARY:W&V Advertising Heroes – Next Challenge Native Advertising - Mark
 eting Club München
DESCRIPTION:Native Advertising – hopp oder top? Welchen Herausforderungen
  müssen sich Marketer\, Vermarkter und Publisher stellen?\nAuf der W&V-Ko
 nferenz „Advertising Heroes – Next Challenge Native Advertising“ pro
 fitieren Sie von Fallbeispielen\, Erfolgsgeschichten\, Anleitungen\, Analy
 sen und Neuigkeiten.
ATTACH;FMTTYPE=image/jpeg:https://dev.marketingclub-muenchen.de/wp-content
 /uploads/teaser-wuv-native-advertising-marketing-club.jpg
CATEGORIES:Kooperation
LOCATION:Box Kitchen Munich\, Rundfunkplatz 4\, 80335 München
GEO:48.14338;11.555990000000065
X-APPLE-STRUCTURED-LOCATION;VALUE=URI;X-ADDRESS=Rundfunkplatz 4\, München\
 , 80335\, Deutschland;X-APPLE-RADIUS=100;X-TITLE=Box Kitchen Munich:geo:48
 .14338,11.555990000000065
END:VEVENT
BEGIN:VTIMEZONE
TZID:Europe/Berlin
X-LIC-LOCATION:Europe/Berlin
BEGIN:DAYLIGHT
DTSTART:20170326T030000
TZOFFSETFROM:+0100
TZOFFSETTO:+0200
TZNAME:CEST
END:DAYLIGHT
END:VTIMEZONE
END:VCALENDAR