BEGIN:VCALENDAR
VERSION:2.0
PRODID:-//wp-events-plugin.com//6.6.4.4//EN
TZID:Europe/Berlin
X-WR-TIMEZONE:Europe/Berlin
BEGIN:VEVENT
UID:330@dev.marketingclub-muenchen.de
DTSTART;TZID=Europe/Berlin:20170627T090000
DTEND;TZID=Europe/Berlin:20170627T180000
DTSTAMP:20170510T075858Z
URL:https://dev.marketingclub-muenchen.de/veranstaltungen/wv-marketing-con
 vention-2017/
SUMMARY:W&V Marketing Convention 2017 - Marketing Club München
DESCRIPTION:Mehr Kanäle\, mehr Kontaktpunkte - mehr Wege\, um den Kunden a
 ufs eigene Produkt aufmerksam zu machen. Bei der Marketing Convention 2017
  diskutieren hierüber internationale und nationale Vordenker und Marketer
 .
ATTACH;FMTTYPE=image/jpeg:https://dev.marketingclub-muenchen.de/wp-content
 /uploads/FB_banner2017_1200x630a.png
CATEGORIES:Kooperation
LOCATION:Rocco Forte The Charles Hotel\, Sophienstr. 28\, 80333 München
GEO:48.14267;11.562628000000018
X-APPLE-STRUCTURED-LOCATION;VALUE=URI;X-ADDRESS=Sophienstr. 28\, München\,
  80333\, Deutschland;X-APPLE-RADIUS=100;X-TITLE=Rocco Forte The Charles Ho
 tel:geo:48.14267,11.562628000000018
END:VEVENT
BEGIN:VTIMEZONE
TZID:Europe/Berlin
X-LIC-LOCATION:Europe/Berlin
BEGIN:DAYLIGHT
DTSTART:20170326T030000
TZOFFSETFROM:+0100
TZOFFSETTO:+0200
TZNAME:CEST
END:DAYLIGHT
END:VTIMEZONE
END:VCALENDAR